BEGIN:VCALENDAR
VERSION:2.0
PRODID:-//Lethal Weapons Training Academy - ECPv6.15.20//NONSGML v1.0//EN
CALSCALE:GREGORIAN
METHOD:PUBLISH
X-WR-CALNAME:Lethal Weapons Training Academy
X-ORIGINAL-URL:https://lethalweaponstraining.com
X-WR-CALDESC:Events for Lethal Weapons Training Academy
REFRESH-INTERVAL;VALUE=DURATION:PT1H
X-Robots-Tag:noindex
X-PUBLISHED-TTL:PT1H
BEGIN:VTIMEZONE
TZID:America/New_York
BEGIN:DAYLIGHT
TZOFFSETFROM:-0500
TZOFFSETTO:-0400
TZNAME:EDT
DTSTART:20240310T070000
END:DAYLIGHT
BEGIN:STANDARD
TZOFFSETFROM:-0400
TZOFFSETTO:-0500
TZNAME:EST
DTSTART:20241103T060000
END:STANDARD
BEGIN:DAYLIGHT
TZOFFSETFROM:-0500
TZOFFSETTO:-0400
TZNAME:EDT
DTSTART:20250309T070000
END:DAYLIGHT
BEGIN:STANDARD
TZOFFSETFROM:-0400
TZOFFSETTO:-0500
TZNAME:EST
DTSTART:20251102T060000
END:STANDARD
BEGIN:DAYLIGHT
TZOFFSETFROM:-0500
TZOFFSETTO:-0400
TZNAME:EDT
DTSTART:20260308T070000
END:DAYLIGHT
BEGIN:STANDARD
TZOFFSETFROM:-0400
TZOFFSETTO:-0500
TZNAME:EST
DTSTART:20261101T060000
END:STANDARD
END:VTIMEZONE
BEGIN:VEVENT
DTSTART;TZID=America/New_York:20250712T075800
DTEND;TZID=America/New_York:20250713T170000
DTSTAMP:20260419T185719
CREATED:20181121T194851Z
LAST-MODIFIED:20250125T202308Z
UID:8091-1752307080-1752426000@lethalweaponstraining.com
SUMMARY:Handgun 201 Advanced Firearm Training
DESCRIPTION:This 2-day class is designed to introduce the experienced gun handler to a more realistic class of defensive gun handling. The course emphasis will be on improving weapon safety and management\, while improving the students ability to make multiple shots on single and multiple targets at unknown distances. \nThe practical application aspect of the class will incorporate all positions and techniques that are covered in the class. If you have a working knowledge and good basic safety habits this is a class designed to improve your handgun management skills and bring your confidence level up to where you will be comfortable in carrying your weapon with you at all times. \nThis is a 14 hour class that is held at our training facility in Crawford County\, Pennsylvania over two consecutive days. The average breakdown of this course is approximately 90% weapons manipulation & range time and 10% classroom. \nSUBJECTS COVERED: \n\n\n\n1. Gun safety review\n2. Range rules\n3. Principles of marksmanship\n4. Static dry fire individual coaching\n5. Live precision fire individual coaching\n6. Timed draw and fire\n7. Speed reloading\n8. Static dry speed reloading\n9. Live fire speed reloading\n10. Tactical reloading\n11. Static dry tactical reloading\n12. Live fire tactical reloading\n13. Malfunction clearance drills\n14. Static dry malfunction clearance drills\n15. Live fire malfunction clearance drills\n16. Position shooting\, kneeling\n17. Static dry fire\, kneeling\n18. Live fire\, kneeling\n19. Position shooting\, prone\n20. Static dry fire\, prone\n21. Live fire\, prone\n22. Position shooting\, squatting\n23. Static dry fire\, squatting\n24. Live fire\, squatting\n25. Strong hand only\n26. Static dry fire\, strong hand only\n27. Live fire\, strong hand only\n28. Practical application drill with vehicle\n\n\n\n  \nEQUIPMENT REQUIRED: \n\nGood Serviceable handgun\nEye protection\nEar protection\nStrong side hip holster\n600 rounds ammunition minimum\nKnee & elbow pads (optional)\n\nSuitable for both Law Enforcement and Private Citizens
URL:https://lethalweaponstraining.com/event/handgun-201-advanced-firearm-training-2/
LOCATION:Lethal Weapons Training Academy\, Cochranton\, PA\, 16314\, United States
CATEGORIES:Firearm Training,Handgun 201
ATTACH;FMTTYPE=image/jpeg:https://lethalweaponstraining.com/wp-content/uploads/2016/01/handgun-201-featured.jpg
END:VEVENT
END:VCALENDAR